BEGIN:VCALENDAR
VERSION:2.0
METHOD:PUBLISH
PRODID:-//University of Central Florida//Academic Calendar//EN
X-WR-CALNAME;VALUE=TEXT:UCF Academic Calendar
X-WR-TIMEZONE:America/New_York
BEGIN:VTIMEZONE
TZID:America/New_York
LAST-MODIFIED:19870101T000000Z
BEGIN:STANDARD
DTSTART:19671029T020000
RRULE:FREQ=YEARLY;BYDAY=-1SU;BYMONTH=10
TZOFFSETFROM:-0400
TZOFFSETTO:-0500
TZNAME:EST
END:STANDARD
BEGIN:DAYLIGHT
DTSTART:19870405T020000
RRULE:FREQ=YEARLY;BYDAY=1SU;BYMONTH=4
TZOFFSETFROM:-0500
TZOFFSETTO:-0400
TZNAME:EDT
END:DAYLIGHT
END:VTIMEZONE
BEGIN:VEVENT
UID:2238@calendar.ucf.edu
DESCRIPTION:
SUMMARY:For Graduate International Students
DTSTAMP:20211210T164300Z
DTSTART;VALUE=DATE:20220115
CLASS:PUBLIC
LAST-MODIFIED:20211210T114300
END:VEVENT
BEGIN:VEVENT
UID:2239@calendar.ucf.edu
DESCRIPTION:
SUMMARY:For Undergraduate International Students
DTSTAMP:20211210T162944Z
DTSTART;VALUE=DATE:20220301
CLASS:PUBLIC
LAST-MODIFIED:20211210T112944
END:VEVENT
BEGIN:VEVENT
UID:2231@calendar.ucf.edu
DESCRIPTION:
SUMMARY:Enrollment Appointment Date and Time available on myUCF for Fall 2022
DTSTAMP:20211210T163408Z
DTSTART;VALUE=DATE:20220307
CLASS:PUBLIC
LAST-MODIFIED:20211210T113408
END:VEVENT
BEGIN:VEVENT
UID:2241@calendar.ucf.edu
DESCRIPTION:$100 Late Registration Fee applies to students who have not enrolled by the close of Registration. $100 Late Payment Fee applies to students who do not pay their fees or do not pay their fees by the due date.
SUMMARY:Registration on myUCF
URL:https://my.ucf.edu/
DTSTAMP:20211210T163226Z
DTSTART;VALUE=DATE:20220324
DTEND;VALUE=DATE:20220821
CLASS:PUBLIC
LAST-MODIFIED:20211210T113226
END:VEVENT
BEGIN:VEVENT
UID:2242@calendar.ucf.edu
DESCRIPTION:
SUMMARY:Faculty Textbooks Orders Due for First Day Inclusive Access Fall 2022
DTSTAMP:20220105T144338Z
DTSTART;VALUE=DATE:20220422
CLASS:PUBLIC
LAST-MODIFIED:20220105T094338
END:VEVENT
BEGIN:VEVENT
UID:2243@calendar.ucf.edu
DESCRIPTION:
SUMMARY:Faculty Orders for Textbooks Due for Fall 2022
DTSTAMP:20220105T144352Z
DTSTART;VALUE=DATE:20220429
CLASS:PUBLIC
LAST-MODIFIED:20220105T094352
END:VEVENT
BEGIN:VEVENT
UID:2244@calendar.ucf.edu
DESCRIPTION:
SUMMARY:For New Undergraduate Freshman Applicants
DTSTAMP:20211210T162957Z
DTSTART;VALUE=DATE:20220501
CLASS:PUBLIC
LAST-MODIFIED:20211210T112957
END:VEVENT
BEGIN:VEVENT
UID:2235@calendar.ucf.edu
DESCRIPTION:(Online Intent to Graduate Form on myUCF)
SUMMARY:Graduation Application for Undergraduate Students
URL:https://my.ucf.edu/
DTSTAMP:20220224T213022Z
DTSTART;VALUE=DATE:20220627
DTEND;VALUE=DATE:20220805
CLASS:PUBLIC
LAST-MODIFIED:20220224T163022
END:VEVENT
BEGIN:VEVENT
UID:2236@calendar.ucf.edu
DESCRIPTION:(Online Intent to Graduate Form on myUCF)
SUMMARY:Graduation Application for Graduate Students
URL:https://my.ucf.edu/
DTSTAMP:20220620T145256Z
DTSTART;VALUE=DATE:20220627
DTEND;VALUE=DATE:20221014
CLASS:PUBLIC
LAST-MODIFIED:20220620T105256
END:VEVENT
BEGIN:VEVENT
UID:2245@calendar.ucf.edu
DESCRIPTION:
SUMMARY:For New Undergraduate Transfers
DTSTAMP:20211210T163010Z
DTSTART;VALUE=DATE:20220701
CLASS:PUBLIC
LAST-MODIFIED:20211210T113010
END:VEVENT
BEGIN:VEVENT
UID:2246@calendar.ucf.edu
DESCRIPTION:
SUMMARY:For Readmission
DTSTAMP:20211208T142617Z
DTSTART;VALUE=DATE:20220701
CLASS:PUBLIC
LAST-MODIFIED:20211208T092617
END:VEVENT
BEGIN:VEVENT
UID:2247@calendar.ucf.edu
DESCRIPTION:
SUMMARY:For Graduate Programs Without Deadline
DTSTAMP:20211210T164029Z
DTSTART;VALUE=DATE:20220701
CLASS:PUBLIC
LAST-MODIFIED:20211210T114029
END:VEVENT
BEGIN:VEVENT
UID:2248@calendar.ucf.edu
DESCRIPTION:
SUMMARY:Final day for Doctoral committee/candidacy forms to be submitted to Graduate Studies  
DTSTAMP:20220216T135658Z
DTSTART;VALUE=DATE:20220805
CLASS:PUBLIC
LAST-MODIFIED:20220216T085658
END:VEVENT
BEGIN:VEVENT
UID:2249@calendar.ucf.edu
DESCRIPTION:
SUMMARY:Final day for Thesis committee forms to be submitted to Graduate Studies 
DTSTAMP:20220216T135709Z
DTSTART;VALUE=DATE:20220812
CLASS:PUBLIC
LAST-MODIFIED:20220216T085709
END:VEVENT
BEGIN:VEVENT
UID:2250@calendar.ucf.edu
DESCRIPTION:
SUMMARY:On-Campus Housing Opens
URL:http://www.housing.ucf.edu/
DTSTAMP:20220105T144444Z
DTSTART;VALUE=DATE:20220819
DTEND;VALUE=DATE:20220821
CLASS:PUBLIC
LAST-MODIFIED:20220105T094444
END:VEVENT
BEGIN:VEVENT
UID:2251@calendar.ucf.edu
DESCRIPTION:
SUMMARY:Registration for UCF Employees and UCF Employees' Spouses and Dependents 
DTSTAMP:20211208T141625Z
DTSTART:20220819T130000
CLASS:PUBLIC
LAST-MODIFIED:20211208T091625
END:VEVENT
BEGIN:VEVENT
UID:2252@calendar.ucf.edu
DESCRIPTION:
SUMMARY:Registration for State Employees\, UCFAA Employees\, Non-Degree\, Transients\, and Audits
DTSTAMP:20211208T141633Z
DTSTART:20220819T150000
CLASS:PUBLIC
LAST-MODIFIED:20211208T091633
END:VEVENT
BEGIN:VEVENT
UID:2253@calendar.ucf.edu
DESCRIPTION:
SUMMARY:Registration for Senior Citizen Audits and STEP
DTSTAMP:20210621T201704Z
DTSTART:20220819T153000
CLASS:PUBLIC
LAST-MODIFIED:20210621T161704
END:VEVENT
BEGIN:VEVENT
UID:2254@calendar.ucf.edu
DESCRIPTION:
SUMMARY:Classes Begin
DTSTAMP:20210621T191950Z
DTSTART;VALUE=DATE:20220822
CLASS:PUBLIC
LAST-MODIFIED:20210621T151950
END:VEVENT
BEGIN:VEVENT
UID:2255@calendar.ucf.edu
DESCRIPTION:http://finaid.ucf.edu/academic-activity/
SUMMARY:Faculty to Confirm Academic Activity in Each Class
URL:http://finaid.ucf.edu/academic-activity/
DTSTAMP:20210621T201732Z
DTSTART;VALUE=DATE:20220822
DTEND;VALUE=DATE:20220826
CLASS:PUBLIC
LAST-MODIFIED:20210621T161732
END:VEVENT
BEGIN:VEVENT
UID:2256@calendar.ucf.edu
DESCRIPTION:$100 Late Registration Fee applies to students who have not enrolled by the close of Registration. $100 Late Payment Fee applies to students who do not pay their fees or do not pay their fees by the due date.
SUMMARY:Late Registration on myUCF
URL:https://my.ucf.edu/
DTSTAMP:20210621T192015Z
DTSTART;VALUE=DATE:20220822
DTEND;VALUE=DATE:20220826
CLASS:PUBLIC
LAST-MODIFIED:20210621T152015
END:VEVENT
BEGIN:VEVENT
UID:2257@calendar.ucf.edu
DESCRIPTION:
SUMMARY:Last Day to Drop and Request Full Refund 
DTSTAMP:20211208T144116Z
DTSTART;VALUE=DATE:20220826
CLASS:PUBLIC
LAST-MODIFIED:20211208T094116
END:VEVENT
BEGIN:VEVENT
UID:2258@calendar.ucf.edu
DESCRIPTION:
SUMMARY:Drop/Swap Deadline on myUCF
URL:https://my.ucf.edu/
DTSTAMP:20210811T131732Z
DTSTART:20220826T235900
CLASS:PUBLIC
LAST-MODIFIED:20210811T091732
END:VEVENT
BEGIN:VEVENT
UID:2259@calendar.ucf.edu
DESCRIPTION:
SUMMARY:Add Deadline on myUCF
URL:https://my.ucf.edu/
DTSTAMP:20210811T131741Z
DTSTART:20220826T235900
CLASS:PUBLIC
LAST-MODIFIED:20210811T091741
END:VEVENT
BEGIN:VEVENT
UID:2446@calendar.ucf.edu
DESCRIPTION:This football game will kick off at 7 p.m. Classes on the main campus\, in the Central Florida Research Park\, at UCF Downtown\, at the Rosen College of Hospitality Management and on UCF's Connect campuses will conclude at 2 p.m. Offices at those locations also will close at 2 p.m.\, and game day activities will begin at 3:30 p.m. Faculty who teach classes that start before 2 p.m. but end after that time will have the option to hold the portion of those classes that comes before 2 p.m.
SUMMARY:Main Campus\, Rosen Campus\, UCF Downtown\, Connect Campuses Close at 2:00 p.m. for UCF v. SC State
DTSTAMP:20220815T191913Z
DTSTART:20220901T140000
CLASS:PUBLIC
LAST-MODIFIED:20220815T151913
END:VEVENT
BEGIN:VEVENT
UID:2260@calendar.ucf.edu
DESCRIPTION:$100 Late Payment Fee applies to students who do not pay their fees or do not pay their fees by the due date.
SUMMARY:Tuition and Fee Payment Deadline
DTSTAMP:20211208T141758Z
DTSTART;VALUE=DATE:20220902
CLASS:PUBLIC
LAST-MODIFIED:20211208T091758
END:VEVENT
BEGIN:VEVENT
UID:2261@calendar.ucf.edu
DESCRIPTION:
SUMMARY:Housing Payment Due
URL:http://www.housing.ucf.edu/costs/payments/
DTSTAMP:20220105T144453Z
DTSTART;VALUE=DATE:20220902
CLASS:PUBLIC
LAST-MODIFIED:20220105T094453
END:VEVENT
BEGIN:VEVENT
UID:2262@calendar.ucf.edu
DESCRIPTION:
SUMMARY:Labor Day
DTSTAMP:20210621T201015Z
DTSTART;VALUE=DATE:20220905
CLASS:PUBLIC
LAST-MODIFIED:20210621T161015
END:VEVENT
BEGIN:VEVENT
UID:2447@calendar.ucf.edu
DESCRIPTION:This football game will kick off at 7:30 p.m. Classes on the main campus\, in the Central Florida Research Park\, at UCF Downtown\, at the Rosen College of Hospitality Management and on UCF's Connect campuses will conclude at 2 p.m. Offices at those locations also will close at 2 p.m.\, and game day activities will begin at 3:30 p.m. Faculty who teach classes that start before 2 p.m. but end after that time will have the option to hold the portion of those classes that comes before 2 p.m.
SUMMARY:Main Campus\, Rosen Campus\, UCF Downtown\, Connect Campuses Close at 2:00 p.m. for UCF v. Louisville
DTSTAMP:20220815T192513Z
DTSTART:20220909T140000
CLASS:PUBLIC
LAST-MODIFIED:20220815T152513
END:VEVENT
BEGIN:VEVENT
UID:2448@calendar.ucf.edu
DESCRIPTION:This football game will kick off at 7 p.m. Classes on the main campus\, in the Central Florida Research Park\, at UCF Downtown\, at the Rosen College of Hospitality Management and on UCF's Connect campuses will conclude at 2 p.m. Offices at those locations also will close at 2 p.m.\, and game day activities will begin at 3:30 p.m. Faculty who teach classes that start before 2 p.m. but end after that time will have the option to hold the portion of those classes that comes before 2 p.m.
SUMMARY:Main Campus\, Rosen Campus\, UCF Downtown\, Connect Campuses Close at 2:00 p.m. for UCF v. Temple
DTSTAMP:20220815T192630Z
DTSTART:20221013T140000
CLASS:PUBLIC
LAST-MODIFIED:20220815T152630
END:VEVENT
BEGIN:VEVENT
UID:2339@calendar.ucf.edu
DESCRIPTION:
SUMMARY:Enrollment Appointment Date and Time available on myUCF for Spring 2023
DTSTAMP:20211210T163421Z
DTSTART;VALUE=DATE:20221017
CLASS:PUBLIC
LAST-MODIFIED:20211210T113421
END:VEVENT
BEGIN:VEVENT
UID:2263@calendar.ucf.edu
DESCRIPTION:
SUMMARY:Financial Aid Deferral Deadline
DTSTAMP:20211208T141838Z
DTSTART;VALUE=DATE:20221028
CLASS:PUBLIC
LAST-MODIFIED:20211208T091838
END:VEVENT
BEGIN:VEVENT
UID:2264@calendar.ucf.edu
DESCRIPTION:
SUMMARY:Graduate Thesis/Dissertation Format Review Deadline
DTSTAMP:20220517T110438Z
DTSTART;VALUE=DATE:20221028
CLASS:PUBLIC
LAST-MODIFIED:20220517T070438
END:VEVENT
BEGIN:VEVENT
UID:2265@calendar.ucf.edu
DESCRIPTION:
SUMMARY:Second Installment of Tuition Payment Plan Deadline     
DTSTAMP:20211208T141823Z
DTSTART;VALUE=DATE:20221028
CLASS:PUBLIC
LAST-MODIFIED:20211208T091823
END:VEVENT
BEGIN:VEVENT
UID:2266@calendar.ucf.edu
DESCRIPTION:
SUMMARY:Last Day to Reinstate Drop for Nonpayment Classes Deadline
DTSTAMP:20211208T141900Z
DTSTART;VALUE=DATE:20221028
CLASS:PUBLIC
LAST-MODIFIED:20211208T091900
END:VEVENT
BEGIN:VEVENT
UID:2233@calendar.ucf.edu
DESCRIPTION:(for further information\, please refer to UCF Athletics)
SUMMARY:Homecoming Game v Cincinnati
URL:https://ucfknights.com/sports/football/schedule/2022
DTSTAMP:20220815T192953Z
DTSTART;VALUE=DATE:20221029
CLASS:PUBLIC
LAST-MODIFIED:20220815T152953
END:VEVENT
BEGIN:VEVENT
UID:2267@calendar.ucf.edu
DESCRIPTION:
SUMMARY:Withdrawal Deadline
DTSTAMP:20221017T155432Z
DTSTART:20221104T235900
CLASS:PUBLIC
LAST-MODIFIED:20221017T115432
END:VEVENT
BEGIN:VEVENT
UID:2269@calendar.ucf.edu
DESCRIPTION:
SUMMARY:Veterans Day (observed)
DTSTAMP:20211208T141220Z
DTSTART;VALUE=DATE:20221111
CLASS:PUBLIC
LAST-MODIFIED:20211208T091220
END:VEVENT
BEGIN:VEVENT
UID:2271@calendar.ucf.edu
DESCRIPTION:Classes not held - Offices still open - Student Holiday Only
SUMMARY:Thanksgiving Wednesday 
DTSTAMP:20211208T140641Z
DTSTART;VALUE=DATE:20221123
CLASS:PUBLIC
LAST-MODIFIED:20211208T090641
END:VEVENT
BEGIN:VEVENT
UID:2272@calendar.ucf.edu
DESCRIPTION:Classes not held - Offices still open - Student Holiday Only
SUMMARY:Thanksgiving Wednesday
DTSTAMP:20211208T140650Z
DTSTART;VALUE=DATE:20221123
CLASS:PUBLIC
LAST-MODIFIED:20211208T090650
END:VEVENT
BEGIN:VEVENT
UID:2273@calendar.ucf.edu
DESCRIPTION:
SUMMARY:Thanksgiving
DTSTAMP:20210621T201045Z
DTSTART;VALUE=DATE:20221124
DTEND;VALUE=DATE:20221126
CLASS:PUBLIC
LAST-MODIFIED:20210621T161045
END:VEVENT
BEGIN:VEVENT
UID:2270@calendar.ucf.edu
DESCRIPTION:
SUMMARY:Graduate Thesis/Dissertation Defense Deadline
DTSTAMP:20221108T203652Z
DTSTART;VALUE=DATE:20221128
CLASS:PUBLIC
LAST-MODIFIED:20221108T153652
END:VEVENT
BEGIN:VEVENT
UID:2275@calendar.ucf.edu
DESCRIPTION:For Course Withdrawals\, adjustments and cancellations
SUMMARY:Financial Aid Award/Adjustments Repayment Deadline for Course Withdrawal
DTSTAMP:20211208T141933Z
DTSTART;VALUE=DATE:20221202
CLASS:PUBLIC
LAST-MODIFIED:20211208T091933
END:VEVENT
BEGIN:VEVENT
UID:2276@calendar.ucf.edu
DESCRIPTION:$100 Late Payment Fee applies to students who do not pay their fees or do not pay their fees by the due date.
SUMMARY:VA/GI Bill Deferral Payment Deadline
DTSTAMP:20211208T141949Z
DTSTART;VALUE=DATE:20221202
CLASS:PUBLIC
LAST-MODIFIED:20211208T091949
END:VEVENT
BEGIN:VEVENT
UID:2277@calendar.ucf.edu
DESCRIPTION:Incomplete grades must be removed within one year of the award date prior to graduation from the University\, whichever comes first\, else they will change to "F."
SUMMARY:Classes End\; Last Day to Remove Incomplete
DTSTAMP:20210621T192423Z
DTSTART;VALUE=DATE:20221202
CLASS:PUBLIC
LAST-MODIFIED:20210621T152423
END:VEVENT
BEGIN:VEVENT
UID:2278@calendar.ucf.edu
DESCRIPTION:Students must be enrolled in the second attempt prior to applying for Grade Forgiveness\, and requests must be submitted no later than the last day of class for the term/session in which the course is being repeated
SUMMARY:Grade Forgiveness Deadline on myUCF (ends at 11:59 p.m.)
URL:http://registrar.ucf.edu/grade-forgiveness
DTSTAMP:20211208T142050Z
DTSTART:20221202T235900
CLASS:PUBLIC
LAST-MODIFIED:20211208T092050
END:VEVENT
BEGIN:VEVENT
UID:2229@calendar.ucf.edu
DESCRIPTION:
SUMMARY:Study Day
DTSTAMP:20210621T192524Z
DTSTART;VALUE=DATE:20221203
CLASS:PUBLIC
LAST-MODIFIED:20210621T152524
END:VEVENT
BEGIN:VEVENT
UID:2279@calendar.ucf.edu
DESCRIPTION:
SUMMARY:Final Examination Period
URL:http://exams.sdes.ucf.edu/2020/fall
DTSTAMP:20210621T192809Z
DTSTART;VALUE=DATE:20221205
DTEND;VALUE=DATE:20221211
CLASS:PUBLIC
LAST-MODIFIED:20210621T152809
END:VEVENT
BEGIN:VEVENT
UID:2274@calendar.ucf.edu
DESCRIPTION:
SUMMARY:Graduate Thesis/Dissertation Final Submission Deadline
DTSTAMP:20221108T203719Z
DTSTART;VALUE=DATE:20221209
CLASS:PUBLIC
LAST-MODIFIED:20221108T153719
END:VEVENT
BEGIN:VEVENT
UID:2280@calendar.ucf.edu
DESCRIPTION:
SUMMARY:On-Campus Housing Closes
URL:http://www.housing.ucf.edu/
DTSTAMP:20220105T144504Z
DTSTART;VALUE=DATE:20221212
CLASS:PUBLIC
LAST-MODIFIED:20220105T094504
END:VEVENT
BEGIN:VEVENT
UID:2281@calendar.ucf.edu
DESCRIPTION:
SUMMARY:Grades Due in myUCF (at 12 p.m.)
URL:https://my.ucf.edu/
DTSTAMP:20220630T132828Z
DTSTART;VALUE=DATE:20221214
CLASS:PUBLIC
LAST-MODIFIED:20220630T092828
END:VEVENT
BEGIN:VEVENT
UID:2283@calendar.ucf.edu
DESCRIPTION:
SUMMARY:Degree Conferral Date
DTSTAMP:20210621T192725Z
DTSTART;VALUE=DATE:20221216
CLASS:PUBLIC
LAST-MODIFIED:20210621T152725
END:VEVENT
BEGIN:VEVENT
UID:2284@calendar.ucf.edu
DESCRIPTION:
SUMMARY:Commencement
URL:http://commencement.ucf.edu/
DTSTAMP:20210621T192830Z
DTSTART;VALUE=DATE:20221216
DTEND;VALUE=DATE:20221217
CLASS:PUBLIC
LAST-MODIFIED:20210621T152830
END:VEVENT
BEGIN:VEVENT
UID:2282@calendar.ucf.edu
DESCRIPTION:
SUMMARY:Grades will be processed as available and will be final at 9 a.m. on myUCF
URL:https://my.ucf.edu/
DTSTAMP:20211210T163502Z
DTSTART:20221216T090000
CLASS:PUBLIC
LAST-MODIFIED:20211210T113502
END:VEVENT
END:VCALENDAR
